Workbook

Sheet Form Responses 1
A1: Timestamp | B1: Označte do akej miery súhlasíte s výrokom. [Produkt by som v prípade potreby rád/a použil/a.] | C1: Označte do akej miery súhlasíte s výrokom. [Produkt je zbytočne komplexný a zložitý.] | D1: Označte do akej miery súhlasíte s výrokom. [Produkt sa mi dobre používal.] | E1: Označte do akej miery súhlasíte s výrokom. [Potreboval/a by som technickú podporu, aby som mohol/a produkt používať efektívne.] | F1: Označte do akej miery súhlasíte s výrokom. [Rôzne funkcie produktu sú dobre spracované.] | G1: Označte do akej miery súhlasíte s výrokom. [Produkt je nekonzistentný.] | H1: Označte do akej miery súhlasíte s výrokom. [Povedal/a by som, že väčšina ľudí sa naučí s produktom pracovať rýchlo.] | I1: Označte do akej miery súhlasíte s výrokom. [Produkt je ťažkopádny a ťažko sa ovláda.] | J1: Označte do akej miery súhlasíte s výrokom. [Pri práci s produktom sa cítim pohodlne a isto.] | K1: Označte do akej miery súhlasíte s výrokom. [Musím sa naučiť veľa vecí, aby som vedel/a s produktom pracovať.]
A2: 45570.488 | B2: Úplne súhlasím | C2: Neviem posúdiť | D2: Úplne súhlasím | E2: Mierne nesúhlasím | F2: Úplne súhlasím | G2: Úplne nesúhlasím | H2: Úplne súhlasím | I2: Úplne nesúhlasím | J2: Úplne súhlasím | K2: Mierne súhlasím
A3: 45570.489 | B3: Mierne nesúhlasím | C3: Mierne súhlasím | D3: Mierne nesúhlasím | E3: Úplne súhlasím | F3: Neviem posúdiť | G3: Mierne nesúhlasím | H3: Neviem posúdiť | I3: Neviem posúdiť | J3: Mierne nesúhlasím | K3: Úplne súhlasím
A4: 45570.497 | B4: Mierne súhlasím | C4: Mierne súhlasím | D4: Úplne súhlasím | E4: Úplne nesúhlasím | F4: Úplne súhlasím | G4: Mierne nesúhlasím | H4: Úplne súhlasím | I4: Mierne nesúhlasím | J4: Mierne súhlasím | K4: Mierne nesúhlasím
A5: 45570.539 | B5: Mierne súhlasím | C5: Neviem posúdiť | D5: Mierne nesúhlasím | E5: Úplne súhlasím | F5: Mierne súhlasím | G5: Mierne súhlasím | H5: Mierne nesúhlasím | I5: Mierne nesúhlasím | J5: Mierne nesúhlasím | K5: Úplne súhlasím
A6: 45570.54 | B6: Úplne súhlasím | C6: Mierne súhlasím | D6: Mierne nesúhlasím | E6: Mierne súhlasím | F6: Neviem posúdiť | G6: Neviem posúdiť | H6: Neviem posúdiť | I6: Neviem posúdiť | J6: Úplne nesúhlasím | K6: Úplne súhlasím
A7: 45570.562 | B7: Úplne súhlasím | C7: Mierne nesúhlasím | D7: Úplne súhlasím | E7: Úplne nesúhlasím | F7: Mierne súhlasím | G7: Mierne nesúhlasím | H7: Neviem posúdiť | I7: Mierne nesúhlasím | J7: Mierne súhlasím | K7: Mierne nesúhlasím
A8: 45570.606 | B8: Neviem posúdiť | C8: Mierne nesúhlasím | D8: Mierne súhlasím | E8: Mierne súhlasím | F8: Mierne súhlasím | G8: Neviem posúdiť | H8: Mierne súhlasím | I8: Mierne nesúhlasím | J8: Mierne súhlasím | K8: Mierne súhlasím
A9: 45570.658 | B9: Úplne súhlasím | C9: Mierne nesúhlasím | D9: Úplne súhlasím | E9: Mierne nesúhlasím | F9: Mierne súhlasím | G9: Úplne nesúhlasím | H9: Mierne súhlasím | I9: Mierne nesúhlasím | J9: Mierne súhlasím | K9: Mierne nesúhlasím
A10: 45570.704 | B10: Úplne súhlasím | C10: Mierne súhlasím | D10: Úplne súhlasím | E10: Mierne súhlasím | F10: Úplne súhlasím | G10: Mierne nesúhlasím | H10: Mierne súhlasím | I10: Úplne nesúhlasím | J10: Úplne súhlasím | K10: Mierne súhlasím
A11: 45570.712 | B11: Úplne súhlasím | C11: Mierne súhlasím | D11: Úplne súhlasím | E11: Úplne nesúhlasím | F11: Úplne súhlasím | G11: Mierne nesúhlasím | H11: Úplne súhlasím | I11: Mierne nesúhlasím | J11: Mierne súhlasím | K11: Mierne nesúhlasím
A12: 45570.734 | B12: Úplne súhlasím | C12: Úplne nesúhlasím | D12: Mierne nesúhlasím | E12: Úplne súhlasím | F12: Neviem posúdiť | G12: Mierne súhlasím | H12: Neviem posúdiť | I12: Mierne nesúhlasím | J12: Mierne súhlasím | K12: Mierne súhlasím
A13: 45570.735 | B13: Mierne nesúhlasím | C13: Mierne súhlasím | D13: Mierne nesúhlasím | E13: Úplne súhlasím | F13: Mierne nesúhlasím | G13: Mierne súhlasím | H13: Mierne nesúhlasím | I13: Mierne súhlasím | J13: Úplne nesúhlasím | K13: Mierne súhlasím
... A122: 45574.599 | B122: Úplne súhlasím | C122: Úplne nesúhlasím | D122: Neviem posúdiť | E122: Neviem posúdiť | F122: Mierne súhlasím | G122: Úplne nesúhlasím | H122: Neviem posúdiť | I122: Neviem posúdiť | J122: Neviem posúdiť | K122: Neviem posúdiť

Sheet Copy of Sheet1
A1: Úplne nesúhlasím | B1: =COUNTIF('Form Responses 1'!B:B, $A1) -> 7 | C1: =COUNTIF('Form Responses 1'!C:C, $A1) -> 48 | D1: =COUNTIF('Form Responses 1'!D:D, $A1) -> 6 | E1: =COUNTIF('Form Responses 1'!E:E, $A1) -> 45 | F1: =COUNTIF('Form Responses 1'!F:F, $A1) -> 3 | G1: =COUNTIF('Form Responses 1'!G:G, $A1) -> 60 | H1: =COUNTIF('Form Responses 1'!H:H, $A1) -> 7 | I1: =COUNTIF('Form Responses 1'!I:I, $A1) -> 58 | J1: =COUNTIF('Form Responses 1'!J:J, $A1) -> 14 | K1: =COUNTIF('Form Responses 1'!K:K, $A1) -> 37
A2: Mierne nesúhlasím | B2: =COUNTIF('Form Responses 1'!B:B, $A2) -> 17 | C2: =COUNTIF('Form Responses 1'!C:C, $A2) -> 27 | D2: =COUNTIF('Form Responses 1'!D:D, $A2) -> 23 | E2: =COUNTIF('Form Responses 1'!E:E, $A2) -> 13 | F2: =COUNTIF('Form Responses 1'!F:F, $A2) -> 15 | G2: =COUNTIF('Form Responses 1'!G:G, $A2) -> 29 | H2: =COUNTIF('Form Responses 1'!H:H, $A2) -> 18 | I2: =COUNTIF('Form Responses 1'!I:I, $A2) -> 35 | J2: =COUNTIF('Form Responses 1'!J:J, $A2) -> 20 | K2: =COUNTIF('Form Responses 1'!K:K, $A2) -> 27
A3: Neviem posúdiť | B3: =COUNTIF('Form Responses 1'!B:B, $A3) -> 9 | C3: =COUNTIF('Form Responses 1'!C:C, $A3) -> 10 | D3: =COUNTIF('Form Responses 1'!D:D, $A3) -> 8 | E3: =COUNTIF('Form Responses 1'!E:E, $A3) -> 11 | F3: =COUNTIF('Form Responses 1'!F:F, $A3) -> 21 | G3: =COUNTIF('Form Responses 1'!G:G, $A3) -> 17 | H3: =COUNTIF('Form Responses 1'!H:H, $A3) -> 41 | I3: =COUNTIF('Form Responses 1'!I:I, $A3) -> 13 | J3: =COUNTIF('Form Responses 1'!J:J, $A3) -> 9 | K3: =COUNTIF('Form Responses 1'!K:K, $A3) -> 12
A4: Mierne súhlasím | B4: =COUNTIF('Form Responses 1'!B:B, $A4) -> 24 | C4: =COUNTIF('Form Responses 1'!C:C, $A4) -> 30 | D4: =COUNTIF('Form Responses 1'!D:D, $A4) -> 34 | E4: =COUNTIF('Form Responses 1'!E:E, $A4) -> 33 | F4: =COUNTIF('Form Responses 1'!F:F, $A4) -> 44 | G4: =COUNTIF('Form Responses 1'!G:G, $A4) -> 13 | H4: =COUNTIF('Form Responses 1'!H:H, $A4) -> 23 | I4: =COUNTIF('Form Responses 1'!I:I, $A4) -> 13 | J4: =COUNTIF('Form Responses 1'!J:J, $A4) -> 46 | K4: =COUNTIF('Form Responses 1'!K:K, $A4) -> 31
A5: Úplne súhlasím | B5: =COUNTIF('Form Responses 1'!B:B, $A5) -> 64 | C5: =COUNTIF('Form Responses 1'!C:C, $A5) -> 6 | D5: =COUNTIF('Form Responses 1'!D:D, $A5) -> 50 | E5: =COUNTIF('Form Responses 1'!E:E, $A5) -> 19 | F5: =COUNTIF('Form Responses 1'!F:F, $A5) -> 38 | G5: =COUNTIF('Form Responses 1'!G:G, $A5) -> 2 | H5: =COUNTIF('Form Responses 1'!H:H, $A5) -> 32 | I5: =COUNTIF('Form Responses 1'!I:I, $A5) -> 2 | J5: =COUNTIF('Form Responses 1'!J:J, $A5) -> 32 | K5: =COUNTIF('Form Responses 1'!K:K, $A5) -> 14
A6: Čiastkové skóre | B6: =B2*1 + B3*2 + B4*3 + B5*4 -> 363 | C6: =C1*4 + C2*3 + C3*2 + C4*1 -> 323 | D6: =D2*1 + D3*2 + D4*3 + D5*4 -> 341 | E6: =E1*4 + E2*3 + E3*2 + E4*1 -> 274 | F6: =F2*1 + F3*2 + F4*3 + F5*4 -> 341 | G6: =G1*4 + G2*3 + G3*2 + G4*1 -> 374 | H6: =H2*1 + H3*2 + H4*3 + H5*4 -> 297 | I6: =I1*4 + I2*3 + I3*2 + I4*1 -> 376 | J6: =J2*1 + J3*2 + J4*3 + J5*4 -> 304 | K6: =K1*4 + K2*3 + K3*2 + K4*1 -> 284
A7: Výsledná suma | B7: =SUM(B6:K6) * 2.5 -> 8192.5
A8: Priemerné SUS skóre | B8: =B7/COUNT('Form Responses 1'!A:A) -> 67.706612
